Workbook

Sheet List 1
B2: Přihláška | C2: Brunečkův memoriál | F2: 26. 9. 2026
B4: Jméno a příjmení:
B5: Datum narození (DD/MM/RRRR):
B6: Telefoní číslo:
B7: E-mail:
B8: Člen klubu: ANO - NE
B10: Jméno králíka | C10: Přezdívka | D10: Číslo VP* | E10: Datum narození | F10: Rovinná dráha | I10: Parkur | L10: Starty
F11: Veteráni | G11: Lehká | H11: Střední | I11: Veteráni | J11: Lehký | K11: Střední
L12: =SUM(F12:K12) -> 0
L13: =SUM(F13:K13) -> 0
L14: =SUM(F14:K14) -> 0
L15: =SUM(F15:K15) -> 0
L16: =SUM(F16:K16) -> 0
L17: =SUM(F17:K17) -> 0
L18: =SUM(F18:K18) -> 0
L19: =SUM(F19:K19) -> 0
L20: =SUM(F20:K20) -> 0
L21: =SUM(F21:K21) -> 0
L22: =SUM(F22:K22) -> 0
L23: =SUM(F23:K23) -> 0
L24: =SUM(F24:K24) -> 0
J25: Starty celkem: | L25: =SUM(L12:L24) -> 0
B26: *VP = výkonnostní průkaz | J26: Startovné celkem: | L26: =100+(50*L25) -> 100
B27: Pokud se králík zúčastní dané disciplíny, do kolonky napište 1, pokud v dané disciplíně nebude startovat, ponechte kolonku prázdnou. | J27: Číslo účtu: | K27: 1508896017/3030
B28: Startovat lze s neomezeným počtem králíků. | J28: VS: | K28: 260926
B29: Odesláním přihlášky závodník bere na vědomí, že se bude řídit platným Soutěžním řádem ČSCH-KKH a zavazuje se k pomoci, která přispěje k hladkému a klidnému průběhu závodů.
C32: QR platba: QR kód pro úhradu se automaticky vygeneruje po vyplnění prvního startu. Při přidání dalších startů se částka automaticky aktualizuje. Pro vygenerování QR kódu je nutné připojení k internetu a může trvat několik sekund. Před zaplacením prosím vždy zkontrolujte celkovou částku. | J32: =Sheet1!F2

Sheet Sheet1
A1: IBAN | B1: Částka | C1: Měna | D1: VS | E1: Zpráva pro příjemce
A2: CZ75 3030 0000 0015 0889 6017 | B2: ='List 1'!$L$26 -> 100 | C2: CZK | D2: ='List 1'!K28 -> 260926 | E2: ='List 1'!C2 -> Brunečkův memoriál | F2: =IF(B2>100,_xlfn.IMAGE("https://quickchart.io/qr?size=300&text="&_xlfn.ENCODEURL("SPD*1.0*ACC:"&SUBSTITUTE(A2," ","")&"*AM:"&TEXT(B2,"0.00")&"*CC:"&C2&"*X-VS:"&D2&"*MSG:"&E2)),"")
A12: číslo účtu | B12: kód banky | C12: Částka | D12: Měna | E12: VS | F12: Zpráva pro příjemce
A13: 1508896017 | B13: 3030 | C13: ='List 1'!$L$26 -> 100 | D13: CZK | E13: 261017 | F13: Skok po svatém Patrikovi | G13: {=_xlfn.LET( _xlpm.xAccount,SUBSTITUTE(A13," ",""), _xlpm.xPrefix,IFERROR(_xlfn.TEXTBEFORE(_xlpm.xAccount,"-"),""), _xlpm.xNumber,IFERROR(_xlfn.TEXTAFTER(_xlpm.xAccount,"-"),_xlpm.xAccount), _xlpm.xBBAN,TEXT(B13,"0000")&TEXT(_xlpm.xPrefix,"000000")&TEXT(_xlpm.xNumber,"0000000000"), _xlpm.xBase,_xlpm.xBBAN&"123500", _xlpm.xRemainder,_xlfn.REDUCE(0,MID(_xlpm.xBase,_xlfn.SEQUENCE(LEN(_xlpm.xBase)),1),_xlfn.LAMBDA(_xlpm.z,_xlpm.c,MOD(_xlpm.z*10+--_xlpm.c,97))), _xlpm.xIBAN,"CZ"&TEXT(98-_xlpm.xRemainder,"00")&_xlpm.xBBAN, _xlpm.xSPAYD,"SPD*1.0*ACC:"&_xlpm.xIBAN&"*AM:"&TEXT(C13,"0.00")&"*CC:"&D13&"*X-VS:"&E13&"*MSG:"&F13, _xlfn.IMAGE("https://quickchart.io/qr?size=300&text="&_xlfn.ENCODEURL(_xlpm.xSPAYD),"QR payment",0) )} -> #NAME?
